BEGIN:VCALENDAR
VERSION:2.0
PRODID:SchoolNow
CALSCALE:GREGORIAN
BEGIN:VEVENT
UID:6054823a-052f-11ea-a0b6-0af9308a8cf1
DTSTAMP:20191112T093242Z
SUMMARY:CDD Board Meeting - Oct. 2019
LOCATION:Community Center\, 3101 17th Street\, St. Cloud\, Florida 34769
URL;VALUE=URI:https://www.stevensplantationcdd.org/calendar/2143259/cdd-boa
 rd-meeting-oct-2019
DTSTART:20191003T220000Z
DTEND:20191003T230000Z
END:VEVENT
END:VCALENDAR
