BEGIN:VCALENDAR
VERSION:2.0
PRODID:SchoolNow
CALSCALE:GREGORIAN
BEGIN:VEVENT
UID:6dece306-052f-11ea-b78e-0af9308a8cf1
DTSTAMP:20200121T142143Z
SUMMARY:CDD Board Meeting - Dec. 2019
LOCATION:Community Center\, 3101 17th Street\, St. Cloud\, Florida 34769
URL;VALUE=URI:https://www.stevensplantationcdd.org/calendar/2143260/cdd-boa
 rd-meeting-dec-2019
DTSTART:20191205T230000Z
DTEND:20191206T000000Z
ATTACH;FILENAME=2019-12-05 AGENDA PACKAGE-compressed NO INVOICES for WEBSIT
 E Posting .pdf;FMTTYPE=application/pdf:https://campussuite-storage.s3.amaz
 onaws.com/prod/1558961/1a78c5c0-f05b-11e9-bb4e-12606da399aa/2041065/546f83
 f0-3c59-11ea-829b-0aa21ba02891/file/2019-12-05 AGENDA PACKAGE-compressed N
 O INVOICES for WEBSITE Posting .pdf
END:VEVENT
END:VCALENDAR
