BEGIN:VCALENDAR
VERSION:2.0
PRODID:SchoolNow
CALSCALE:GREGORIAN
BEGIN:VEVENT
UID:84d481d2-052f-11ea-9819-0af9308a8cf1
DTSTAMP:20200127T161458Z
SUMMARY:CDD Board Meeting - Feb. 2020
LOCATION:Community Center\, 3101 17th Street\, St. Cloud\, Florida 34769
URL;VALUE=URI:https://www.stevensplantationcdd.org/calendar/2143261/cdd-boa
 rd-meeting-feb-2020
DTSTART:20200206T230000Z
DTEND:20200207T000000Z
ATTACH;FILENAME=2020-02-06 STEVENS PLANTATION AGENDA PACKAGE .pdf;FMTTYPE=a
 pplication/pdf:https://campussuite-storage.s3.amazonaws.com/prod/1558961/1
 a78c5c0-f05b-11e9-bb4e-12606da399aa/2043747/24ed5d48-4120-11ea-8f93-0a8cdf
 0a0433/file/2020-02-06 STEVENS PLANTATION AGENDA PACKAGE .pdf
END:VEVENT
END:VCALENDAR
