BEGIN:VCALENDAR
VERSION:2.0
PRODID:SchoolNow
CALSCALE:GREGORIAN
BEGIN:VEVENT
UID:9e4c07d4-052f-11ea-a5ec-0af9308a8cf1
DTSTAMP:20200317T165916Z
SUMMARY:CDD Board Meeting - Apr. 2020 - CANCELLED
LOCATION:Community Center\, 3101 17th Street\, St. Cloud\, Florida 34769
URL;VALUE=URI:https://www.stevensplantationcdd.org/calendar/2143262/cdd-boa
 rd-meeting-apr-2020-cancelled
DTSTART:20200409T220000Z
DTEND:20200409T230000Z
END:VEVENT
END:VCALENDAR
