BEGIN:VCALENDAR
VERSION:2.0
PRODID:SchoolNow
CALSCALE:GREGORIAN
BEGIN:VEVENT
UID:7c8ed134-76cc-11f0-a053-02aca8e1564d
DTSTAMP:20260326T202047Z
SUMMARY:CDD Board Meeting - Apr. 2026
LOCATION:The Cornerstone Family Church 2925 Canoe Creek Road\, St. Cloud\, 
 FL 34772
URL;VALUE=URI:https://www.stevensplantationcdd.org/calendar/8490457/cdd-boa
 rd-meeting-apr-2026
DTSTART:20260402T220000Z
DTEND:20260402T230000Z
ATTACH;FILENAME=2026-04-02 - Stevens Plantation CDD - Agenda Page.pdf;FMTTY
 PE=application/pdf:https://campussuite-storage.s3.amazonaws.com/prod/15589
 61/1a78c5c0-f05b-11e9-bb4e-12606da399aa/3084220/4457d51c-2951-11f1-815e-0a
 58a9feac02/file/2026-04-02 - Stevens Plantation CDD - Agenda Page.pdf
END:VEVENT
END:VCALENDAR
