BEGIN:VCALENDAR
VERSION:2.0
PRODID:SchoolNow
CALSCALE:GREGORIAN
BEGIN:VEVENT
UID:8a0a20a2-76cc-11f0-999b-0a58a9feac02
DTSTAMP:20250811T160210Z
SUMMARY:CDD Board Meeting - Jun. 2026
LOCATION:The Cornerstone Family Church 2925 Canoe Creek Road\, St. Cloud\, 
 FL 34772
URL;VALUE=URI:https://www.stevensplantationcdd.org/calendar/8490458/cdd-boa
 rd-meeting-jun-2026
DTSTART:20260604T220000Z
DTEND:20260604T230000Z
END:VEVENT
END:VCALENDAR
